BEGIN:VCALENDAR
VERSION:2.0
PRODID:-//I.d.E.E. e.V. - ECPv6.15.20//NONSGML v1.0//EN
CALSCALE:GREGORIAN
METHOD:PUBLISH
X-WR-CALNAME:I.d.E.E. e.V.
X-ORIGINAL-URL:https://idee-verein.de
X-WR-CALDESC:Veranstaltungen für I.d.E.E. e.V.
REFRESH-INTERVAL;VALUE=DURATION:PT1H
X-Robots-Tag:noindex
X-PUBLISHED-TTL:PT1H
BEGIN:VTIMEZONE
TZID:Europe/Brussels
BEGIN:DAYLIGHT
TZOFFSETFROM:+0100
TZOFFSETTO:+0200
TZNAME:CEST
DTSTART:20240331T010000
END:DAYLIGHT
BEGIN:STANDARD
TZOFFSETFROM:+0200
TZOFFSETTO:+0100
TZNAME:CET
DTSTART:20241027T010000
END:STANDARD
BEGIN:DAYLIGHT
TZOFFSETFROM:+0100
TZOFFSETTO:+0200
TZNAME:CEST
DTSTART:20250330T010000
END:DAYLIGHT
BEGIN:STANDARD
TZOFFSETFROM:+0200
TZOFFSETTO:+0100
TZNAME:CET
DTSTART:20251026T010000
END:STANDARD
BEGIN:DAYLIGHT
TZOFFSETFROM:+0100
TZOFFSETTO:+0200
TZNAME:CEST
DTSTART:20260329T010000
END:DAYLIGHT
BEGIN:STANDARD
TZOFFSETFROM:+0200
TZOFFSETTO:+0100
TZNAME:CET
DTSTART:20261025T010000
END:STANDARD
END:VTIMEZONE
BEGIN:VEVENT
DTSTART;TZID=Europe/Brussels:20251120T140000
DTEND;TZID=Europe/Brussels:20251120T160000
DTSTAMP:20260420T140414
CREATED:20250625T121011Z
LAST-MODIFIED:20250625T121012Z
UID:995-1763647200-1763654400@idee-verein.de
SUMMARY:20.11.2025 Supervisionsangebot für EX-IN Genesungsbegleitende in und um Düsseldorf
DESCRIPTION:EX-IN Genesungsbegleitende sind mit ihrem unschätzbaren Erfahrungswissen mittlerweile nicht mehr aus unserer Arbeit wegzudenken. Damit diese aber auch auf Dauer in ihrer spezifischen Rolle bleiben können und von Ihrer Arbeit und Rolle profitieren können\, braucht es besondere Bedingungen. Eine dieser Bedingungen ist eine eigene Supervision nur für Genesungsbegleitende. Diese kann dazu beitragen\, dass diese sich immer wieder ihrer besonderen Rolle bewusst werden\, sich gegenseitig stärken\, in den Erfahrungsaustausch gehen können und auch eine Abgrenzung zu den anderen Professionen zu finden. Seit 2022 findet die Supervision für EX-IN Genesungsbegleitende in Düsseldorf statt. Die Organisation des Angebotes erfolgt aktuell in Eigenregie teilnehmender Genesungsbegleitenden statt. \n\n\n\nVeranstaltungsort: in den Räumlichkeiten der Kaiserswerther Diakonie Düsseldorf.Gruppengröße: aktuell max. 10 Teilnehmende pro Termin. \n\n\n\nAnmeldung: Zu den Terminen kann sich jeweils einzeln angemeldet werden.Zusagen / Anmeldung: Schriftlich (per E-Mail)\, zum jeweiligen Termin sind verbindlich.Im Falle einer Erkrankung sollte bitte bis allerspätestens 2 Tage vorher abgesagt werden.Raumnutzung: Die Nutzung des Raumes ist kostenlos. \n\n\n\nRechnungsstellung: Die Rechnungsstellung erfolgt über den Supervisor. Der Rechnungsbetrag (EUR 340\,- für 2 Zeitstunden) wird durch die jeweils anwesenden Teilnehmenden geteilt und dem jeweiligen Arbeitgeber (oder Selbstzahler) in Rechnung gestellt. \n\n\n\nInteresse teilzunehmen? Oder haben Sie noch Fragen vorab?Wir bitten interessierte EX-IN Genesungsbegleitende sowie Arbeitgebende vor Anmeldung um vorherige Kontaktaufnahme. \n\n\n\nKontakt:Annika Stiglic\, (EX-IN Genesungsbegleiterin\, EX-IN Deutschland)genesungsprojekte@gmail.com\, stellv. für die Teilnehmende
URL:https://idee-verein.de/event/20-11-2025-supervisionsangebot-fuer-ex-in-genesungsbegleitende-in-und-um-duesseldorf/
CATEGORIES:Supervision
ATTACH;FMTTYPE=image/jpeg:https://idee-verein.de/wp-content/uploads/2023/08/EX-IN-Zug-scaled-e1692016996753.jpg
END:VEVENT
END:VCALENDAR